BEGIN:VCALENDAR
VERSION:2.0
PRODID:-//Eastern District Orchid Society Inc. - ECPv6.15.15//NONSGML v1.0//EN
CALSCALE:GREGORIAN
METHOD:PUBLISH
X-WR-CALNAME:Eastern District Orchid Society Inc.
X-ORIGINAL-URL:https://www.edos.org.au
X-WR-CALDESC:Events for Eastern District Orchid Society Inc.
REFRESH-INTERVAL;VALUE=DURATION:PT1H
X-Robots-Tag:noindex
X-PUBLISHED-TTL:PT1H
BEGIN:VTIMEZONE
TZID:Australia/Melbourne
BEGIN:STANDARD
TZOFFSETFROM:+1100
TZOFFSETTO:+1000
TZNAME:AEST
DTSTART:20210403T160000
END:STANDARD
BEGIN:DAYLIGHT
TZOFFSETFROM:+1000
TZOFFSETTO:+1100
TZNAME:AEDT
DTSTART:20211002T160000
END:DAYLIGHT
BEGIN:STANDARD
TZOFFSETFROM:+1100
TZOFFSETTO:+1000
TZNAME:AEST
DTSTART:20220402T160000
END:STANDARD
BEGIN:DAYLIGHT
TZOFFSETFROM:+1000
TZOFFSETTO:+1100
TZNAME:AEDT
DTSTART:20221001T160000
END:DAYLIGHT
BEGIN:STANDARD
TZOFFSETFROM:+1100
TZOFFSETTO:+1000
TZNAME:AEST
DTSTART:20230401T160000
END:STANDARD
BEGIN:DAYLIGHT
TZOFFSETFROM:+1000
TZOFFSETTO:+1100
TZNAME:AEDT
DTSTART:20230930T160000
END:DAYLIGHT
END:VTIMEZONE
BEGIN:VEVENT
DTSTART;TZID=Australia/Melbourne:20220831T080000
DTEND;TZID=Australia/Melbourne:20220904T170000
DTSTAMP:20260420T063808
CREATED:20220627T010042Z
LAST-MODIFIED:20220627T010547Z
UID:2126-1661932800-1662310800@www.edos.org.au
SUMMARY:22nd Australian Orchid Council Conference & Show
DESCRIPTION:Queensland will be hosting the 22nd AOC Conference and Show over the week end 31 Aug – 4 Sep 22. \nThe location will be the Logan Metro Sports & Events Centre\, 357 Browns Plain Rd\, Crestmead\, QLD\, 4132. \nFor more information on this Show please contact the organising committee at AOCC 2022
URL:https://www.edos.org.au/event/22nd-australian-orchid-council-conference-show/
LOCATION:Logan Metro Sports & Events Centre\, 357 Browns Plain Road\, Creastmead\, Queensland\, 4132\, Australia
CATEGORIES:EDOS News
ATTACH;FMTTYPE=image/jpeg:https://www.edos.org.au/wp-content/uploads/2022/06/AOCC-Logo-with-2022-Under.jpg
END:VEVENT
END:VCALENDAR