BEGIN:VCALENDAR
VERSION:2.0
PRODID:-//Eastern District Orchid Society Inc. - ECPv6.15.15//NONSGML v1.0//EN
CALSCALE:GREGORIAN
METHOD:PUBLISH
X-ORIGINAL-URL:https://www.edos.org.au
X-WR-CALDESC:Events for Eastern District Orchid Society Inc.
REFRESH-INTERVAL;VALUE=DURATION:PT1H
X-Robots-Tag:noindex
X-PUBLISHED-TTL:PT1H
BEGIN:VTIMEZONE
TZID:Australia/Melbourne
BEGIN:STANDARD
TZOFFSETFROM:+1100
TZOFFSETTO:+1000
TZNAME:AEST
DTSTART:20210403T160000
END:STANDARD
BEGIN:DAYLIGHT
TZOFFSETFROM:+1000
TZOFFSETTO:+1100
TZNAME:AEDT
DTSTART:20211002T160000
END:DAYLIGHT
BEGIN:STANDARD
TZOFFSETFROM:+1100
TZOFFSETTO:+1000
TZNAME:AEST
DTSTART:20220402T160000
END:STANDARD
BEGIN:DAYLIGHT
TZOFFSETFROM:+1000
TZOFFSETTO:+1100
TZNAME:AEDT
DTSTART:20221001T160000
END:DAYLIGHT
BEGIN:STANDARD
TZOFFSETFROM:+1100
TZOFFSETTO:+1000
TZNAME:AEST
DTSTART:20230401T160000
END:STANDARD
BEGIN:DAYLIGHT
TZOFFSETFROM:+1000
TZOFFSETTO:+1100
TZNAME:AEDT
DTSTART:20230930T160000
END:DAYLIGHT
END:VTIMEZONE
BEGIN:VEVENT
DTSTART;TZID=Australia/Melbourne:20221103T093000
DTEND;TZID=Australia/Melbourne:20221103T120000
DTSTAMP:20260420T034013
CREATED:20220627T005234Z
LAST-MODIFIED:20220627T005234Z
UID:2124-1667467800-1667476800@www.edos.org.au
SUMMARY:EDOS Committee Meeting
DESCRIPTION:
URL:https://www.edos.org.au/event/edos-committee-meeting-18/
LOCATION:Bayside Uniting Church Hall\, 420 Wandall Road\, Manly West\, Qld\, 4179\, Australia
CATEGORIES:EDOS Meeting
ORGANIZER;CN="EDOS Inc.":MAILTO:info@edos.org.au
END:VEVENT
END:VCALENDAR