BEGIN:VCALENDAR
VERSION:2.0
PRODID:-//Eastern District Orchid Society Inc. - ECPv6.15.15//NONSGML v1.0//EN
CALSCALE:GREGORIAN
METHOD:PUBLISH
X-WR-CALNAME:Eastern District Orchid Society Inc.
X-ORIGINAL-URL:https://www.edos.org.au
X-WR-CALDESC:Events for Eastern District Orchid Society Inc.
REFRESH-INTERVAL;VALUE=DURATION:PT1H
X-Robots-Tag:noindex
X-PUBLISHED-TTL:PT1H
BEGIN:VTIMEZONE
TZID:Australia/Melbourne
BEGIN:STANDARD
TZOFFSETFROM:+1100
TZOFFSETTO:+1000
TZNAME:AEST
DTSTART:20200404T160000
END:STANDARD
BEGIN:DAYLIGHT
TZOFFSETFROM:+1000
TZOFFSETTO:+1100
TZNAME:AEDT
DTSTART:20201003T160000
END:DAYLIGHT
BEGIN:STANDARD
TZOFFSETFROM:+1100
TZOFFSETTO:+1000
TZNAME:AEST
DTSTART:20210403T160000
END:STANDARD
BEGIN:DAYLIGHT
TZOFFSETFROM:+1000
TZOFFSETTO:+1100
TZNAME:AEDT
DTSTART:20211002T160000
END:DAYLIGHT
BEGIN:STANDARD
TZOFFSETFROM:+1100
TZOFFSETTO:+1000
TZNAME:AEST
DTSTART:20220402T160000
END:STANDARD
BEGIN:DAYLIGHT
TZOFFSETFROM:+1000
TZOFFSETTO:+1100
TZNAME:AEDT
DTSTART:20221001T160000
END:DAYLIGHT
END:VTIMEZONE
BEGIN:VEVENT
DTSTART;TZID=Australia/Melbourne:20210507T080000
DTEND;TZID=Australia/Melbourne:20210508T170000
DTSTAMP:20260422T142724
CREATED:20210303T011630Z
LAST-MODIFIED:20210429T220323Z
UID:1880-1620374400-1620493200@www.edos.org.au
SUMMARY:Lockyer Valley Autumn Show
DESCRIPTION:For more information please contact – 0409 475 504
URL:https://www.edos.org.au/event/lockyer-valley-autumn-show/
LOCATION:St Alban’s Church Hall                Cnr  Railway and Spencer streets                Gatton\, St Alban’s Church Hall\, Gatton\, Australia
CATEGORIES:Orchid Societies
END:VEVENT
BEGIN:VEVENT
DTSTART;TZID=Australia/Melbourne:20210508T090000
DTEND;TZID=Australia/Melbourne:20210509T150000
DTSTAMP:20260422T142724
CREATED:20210303T011748Z
LAST-MODIFIED:20210303T011748Z
UID:1882-1620464400-1620572400@www.edos.org.au
SUMMARY:Toowoomba Orchid Society Autumn Show
DESCRIPTION:
URL:https://www.edos.org.au/event/toowoomba-orchid-society-autumn-show/
LOCATION:Qld
CATEGORIES:Orchid Societies
END:VEVENT
END:VCALENDAR