BEGIN:VCALENDAR
VERSION:2.0
PRODID:-//Eastern District Orchid Society Inc. - ECPv6.15.15//NONSGML v1.0//EN
CALSCALE:GREGORIAN
METHOD:PUBLISH
X-WR-CALNAME:Eastern District Orchid Society Inc.
X-ORIGINAL-URL:https://www.edos.org.au
X-WR-CALDESC:Events for Eastern District Orchid Society Inc.
REFRESH-INTERVAL;VALUE=DURATION:PT1H
X-Robots-Tag:noindex
X-PUBLISHED-TTL:PT1H
BEGIN:VTIMEZONE
TZID:Australia/Melbourne
BEGIN:STANDARD
TZOFFSETFROM:+1100
TZOFFSETTO:+1000
TZNAME:AEST
DTSTART:20200404T160000
END:STANDARD
BEGIN:DAYLIGHT
TZOFFSETFROM:+1000
TZOFFSETTO:+1100
TZNAME:AEDT
DTSTART:20201003T160000
END:DAYLIGHT
BEGIN:STANDARD
TZOFFSETFROM:+1100
TZOFFSETTO:+1000
TZNAME:AEST
DTSTART:20210403T160000
END:STANDARD
BEGIN:DAYLIGHT
TZOFFSETFROM:+1000
TZOFFSETTO:+1100
TZNAME:AEDT
DTSTART:20211002T160000
END:DAYLIGHT
BEGIN:STANDARD
TZOFFSETFROM:+1100
TZOFFSETTO:+1000
TZNAME:AEST
DTSTART:20220402T160000
END:STANDARD
BEGIN:DAYLIGHT
TZOFFSETFROM:+1000
TZOFFSETTO:+1100
TZNAME:AEDT
DTSTART:20221001T160000
END:DAYLIGHT
END:VTIMEZONE
BEGIN:VEVENT
DTSTART;TZID=Australia/Melbourne:20210717T090000
DTEND;TZID=Australia/Melbourne:20210718T150000
DTSTAMP:20260422T120306
CREATED:20210303T012051Z
LAST-MODIFIED:20210303T012051Z
UID:1885-1626512400-1626620400@www.edos.org.au
SUMMARY:Toowoomba Orchid Society Winter Show
DESCRIPTION:
URL:https://www.edos.org.au/event/toowoomba-orchid-society-winter-show/
LOCATION:Qld
CATEGORIES:Orchid Societies
END:VEVENT
BEGIN:VEVENT
DTSTART;TZID=Australia/Melbourne:20210724T090000
DTEND;TZID=Australia/Melbourne:20210725T150000
DTSTAMP:20260422T120306
CREATED:20210303T012223Z
LAST-MODIFIED:20210303T012306Z
UID:1887-1627117200-1627225200@www.edos.org.au
SUMMARY:John Oxley Orchid Society Annual Winter Show
DESCRIPTION:
URL:https://www.edos.org.au/event/john-oxley-annual-winter-show/
LOCATION:Auditorium\, Botanic Gardens\, Mt Coot-tha\, Auditorium\, Botanic Gardens\, Mt Coot-tha\, Brisbane\, Queensland\, 4066\, Australia
CATEGORIES:Orchid Societies
END:VEVENT
END:VCALENDAR