BEGIN:VCALENDAR
VERSION:2.0
PRODID:-//Eastern District Orchid Society Inc. - ECPv6.15.15//NONSGML v1.0//EN
CALSCALE:GREGORIAN
METHOD:PUBLISH
X-ORIGINAL-URL:https://www.edos.org.au
X-WR-CALDESC:Events for Eastern District Orchid Society Inc.
REFRESH-INTERVAL;VALUE=DURATION:PT1H
X-Robots-Tag:noindex
X-PUBLISHED-TTL:PT1H
BEGIN:VTIMEZONE
TZID:Australia/Melbourne
BEGIN:STANDARD
TZOFFSETFROM:+1100
TZOFFSETTO:+1000
TZNAME:AEST
DTSTART:20210403T160000
END:STANDARD
BEGIN:DAYLIGHT
TZOFFSETFROM:+1000
TZOFFSETTO:+1100
TZNAME:AEDT
DTSTART:20211002T160000
END:DAYLIGHT
BEGIN:STANDARD
TZOFFSETFROM:+1100
TZOFFSETTO:+1000
TZNAME:AEST
DTSTART:20220402T160000
END:STANDARD
BEGIN:DAYLIGHT
TZOFFSETFROM:+1000
TZOFFSETTO:+1100
TZNAME:AEDT
DTSTART:20221001T160000
END:DAYLIGHT
BEGIN:STANDARD
TZOFFSETFROM:+1100
TZOFFSETTO:+1000
TZNAME:AEST
DTSTART:20230401T160000
END:STANDARD
BEGIN:DAYLIGHT
TZOFFSETFROM:+1000
TZOFFSETTO:+1100
TZNAME:AEDT
DTSTART:20230930T160000
END:DAYLIGHT
END:VTIMEZONE
BEGIN:VEVENT
DTSTART;TZID=Australia/Melbourne:20220212T080000
DTEND;TZID=Australia/Melbourne:20220213T150000
DTSTAMP:20260422T023002
CREATED:20211028T011148Z
LAST-MODIFIED:20220123T005831Z
UID:2023-1644652800-1644764400@www.edos.org.au
SUMMARY:Cancelled - Aspley Orchid Society Show
DESCRIPTION:This show has been cancelled due to COVID restrictions.\nFor more information about the show please contact the Aspley Orchid Society Secretary on 0402 252 264 or email aspley@y7mail.com.\n  \n 
URL:https://www.edos.org.au/event/aspley-orchid-society-show/
LOCATION:Auditorium\, Botanic Gardens\, Mt Coot-tha\, Auditorium\, Botanic Gardens\, Mt Coot-tha\, Brisbane\, Queensland\, 4066\, Australia
CATEGORIES:Orchid Societies
END:VEVENT
END:VCALENDAR